BEGIN:VCALENDAR
VERSION:2.0
CREATED:20260416T123626Z
PRODID:-//Mirion Technologies\, Inc./Equisolve Calendar v1.0//EN
METHOD:PUBLISH
BEGIN:VEVENT
UID:759717b343767bfb625175c142d9bc19
DTSTAMP:20260422T123603Z
DTSTART:20260429T140000Z
DTEND:20260429T150000Z
SUMMARY:First Quarter 2026 Earnings Call
DESCRIPTION:First Quarter 2026 Earnings Call\nDate: Apr 29\, 2026 10:00 am EDT\nWebcast: https://viavid.webcasts.com/starthere.jsp?ei=1759522&tp_key=90884dd738
END:VEVENT
END:VCALENDAR
